BEGIN:VCALENDAR
VERSION:2.0
PRODID:-//గ్రేటర్ రిచ్మండ్ తెలుగు అసోసియేషన్ - ECPv6.15.20//NONSGML v1.0//EN
CALSCALE:GREGORIAN
METHOD:PUBLISH
X-ORIGINAL-URL:https://grtava.org
X-WR-CALDESC:Events for గ్రేటర్ రిచ్మండ్ తెలుగు అసోసియేషన్
REFRESH-INTERVAL;VALUE=DURATION:PT1H
X-Robots-Tag:noindex
X-PUBLISHED-TTL:PT1H
BEGIN:VTIMEZONE
TZID:UTC
BEGIN:STANDARD
TZOFFSETFROM:+0000
TZOFFSETTO:+0000
TZNAME:UTC
DTSTART:20240101T000000
END:STANDARD
END:VTIMEZONE
BEGIN:VEVENT
DTSTART;TZID=UTC:20250531T100000
DTEND;TZID=UTC:20250531T170000
DTSTAMP:20260425T155042
CREATED:20250427T171235Z
LAST-MODIFIED:20250601T030147Z
UID:29186-1748685600-1748710800@grtava.org
SUMMARY:GRTA చదరంగం  పోటీలు - Chess Championship 2025
DESCRIPTION:                    
URL:https://grtava.org/event/grta-%e0%b0%9a%e0%b0%a6%e0%b0%b0%e0%b0%82%e0%b0%97%e0%b0%82-%e0%b0%aa%e0%b1%8b%e0%b0%9f%e0%b1%80%e0%b0%b2%e0%b1%81-chess-championship-2025/
LOCATION:Publix Super Market at John Rolfe Commons (Community Room) 2250 John Rolfe Pkwy\, Henrico\, VA 23233\, 2250 John Rolfe Pkwy\,\, Henrico\, 23233\, United States
END:VEVENT
BEGIN:VEVENT
DTSTART;VALUE=DATE:20250726
DTEND;VALUE=DATE:20250728
DTSTAMP:20260425T155042
CREATED:20250527T004128Z
LAST-MODIFIED:20250619T181227Z
UID:29267-1753488000-1753660799@grtava.org
SUMMARY:GRTA Pickleball Tournament 2025
DESCRIPTION:
URL:https://grtava.org/event/29267/
LOCATION:Pouncey Tract Park (Tiger Courts #1-4)\, 4747 Pouncey Tract Rd\,\, Glen Allen\, 23233\, United States
END:VEVENT
BEGIN:VEVENT
DTSTART;TZID=UTC:20260321T150000
DTEND;TZID=UTC:20260321T163000
DTSTAMP:20260425T155042
CREATED:20260311T193830Z
LAST-MODIFIED:20260311T195210Z
UID:29918-1774105200-1774110600@grtava.org
SUMMARY:GRTA Creative Writing Competition!
DESCRIPTION:It’s time for our young storytellers to shine! The Greater Richmond Telugu Association (GRTA)\, in association with the Tutoring Club\, is thrilled to announce a Creative Writing Competition designed to inspire and challenge our youth. \nWhether your child is a budding novelist or just loves to express their ideas on paper\, this is a fantastic opportunity to sharpen their writing skills and have some fun with fellow members. \n\nEvent Details\n\nDate: Saturday\, March 21\, 2026\nTime: 3:00 PM – 4:30 PM\nLocation: Tutoring Club(11219-A Nuckols Road\, Glen Allen\, VA 23059)\nEligibility: Grades 3 through 12 (Exclusively for GRTA Members)\n\nWhy Participate?\nThis competition is more than just a contest; it’s a platform for kids to showcase their imagination. We will be awarding prizes for each student category\, and all winners will be officially recognized and celebrated during our upcoming GRTA Ugadi Celebrations! \nRegister Today\nSpaces are limited to ensure a quality experience for all participants. Please secure your child’s spot by clicking the link below: \n Registration Form \n\nWe can’t wait to see the incredible stories and essays our community’s children will create. Let’s encourage them to pick up the pen and let their creativity flow!
URL:https://grtava.org/event/grta-creative-writing-competition/
LOCATION:Tutoring Club\, 11219-A Nuckols Road\, Glen Allen\, VA\, 23059\, United States
CATEGORIES:2026
ATTACH;FMTTYPE=image/jpeg:https://grtava.org/wp-content/uploads/2026/03/TutoringClubCreativeWriting.jpeg
END:VEVENT
BEGIN:VEVENT
DTSTART;TZID=UTC:20260403T180000
DTEND;TZID=UTC:20260405T170000
DTSTAMP:20260425T155042
CREATED:20260311T195632Z
LAST-MODIFIED:20260311T195632Z
UID:29928-1775239200-1775408400@grtava.org
SUMMARY:GRTA Badminton Championship 2026
DESCRIPTION:It’s time to dust off your rackets\, stretch those muscles\, and get ready for some high-energy competition! The Greater Richmond Telugu Association (GRTA) is thrilled to announce the upcoming GRTA Badminton Championship 2026. \nRain or shine\, the games are on! We are excited to host this as an indoor tournament\, ensuring a professional environment and perfect playing conditions for every match. \nWhether you’re a seasoned pro or just in it for the fun and community spirit\, we want to see you on the court. \nEvent Details\n\n\nDates: Friday\, April 3rd – Sunday\, April 5th\nKick-off: Friday evening at 6:00 PM\nLocation: 5000 Pouncey Tract Rd\, Glen Allen\, VA 23059\nRegistration Link\n\nTournament Categories\nThis year’s championship will focus on team spirit with two main categories: \n\nMen’s Doubles\nWomen’s Doubles\n\nWhy Participate? \n\nCompetitive Fun: Test your skills against the best in our community.\nFitness & Community: A great way to stay active and catch up with friends.\nBragging Rights: Trophies and glory await the winners!\n\nDon’t wait—spots fill up fast! Register today and start practicing those smashes. \nWe look forward to seeing the GRTA family come together for an unforgettable weekend of sportsmanship.
URL:https://grtava.org/event/grta-badminton-championship-2026/
LOCATION:Christ Church Episcopal\, 5000 Pouncey Tract Rd\, Glen Allen\, VA\, 23059\, United States
CATEGORIES:2026
ATTACH;FMTTYPE=image/jpeg:https://grtava.org/wp-content/uploads/2026/03/GRTA-Badminton-2026.jpeg
END:VEVENT
END:VCALENDAR