BEGIN:VCALENDAR
VERSION:2.0
PRODID:-//గ్రేటర్ రిచ్మండ్ తెలుగు అసోసియేషన్ - ECPv6.15.20//NONSGML v1.0//EN
CALSCALE:GREGORIAN
METHOD:PUBLISH
X-WR-CALNAME:గ్రేటర్ రిచ్మండ్ తెలుగు అసోసియేషన్
X-ORIGINAL-URL:https://grtava.org
X-WR-CALDESC:Events for గ్రేటర్ రిచ్మండ్ తెలుగు అసోసియేషన్
REFRESH-INTERVAL;VALUE=DURATION:PT1H
X-Robots-Tag:noindex
X-PUBLISHED-TTL:PT1H
BEGIN:VTIMEZONE
TZID:UTC
BEGIN:STANDARD
TZOFFSETFROM:+0000
TZOFFSETTO:+0000
TZNAME:UTC
DTSTART:20210101T000000
END:STANDARD
END:VTIMEZONE
BEGIN:VEVENT
DTSTART;TZID=UTC:20250531T100000
DTEND;TZID=UTC:20250531T170000
DTSTAMP:20260426T012914
CREATED:20250427T171235Z
LAST-MODIFIED:20250601T030147Z
UID:29186-1748685600-1748710800@grtava.org
SUMMARY:GRTA చదరంగం  పోటీలు - Chess Championship 2025
DESCRIPTION:                    
URL:https://grtava.org/event/grta-%e0%b0%9a%e0%b0%a6%e0%b0%b0%e0%b0%82%e0%b0%97%e0%b0%82-%e0%b0%aa%e0%b1%8b%e0%b0%9f%e0%b1%80%e0%b0%b2%e0%b1%81-chess-championship-2025/
LOCATION:Publix Super Market at John Rolfe Commons (Community Room) 2250 John Rolfe Pkwy\, Henrico\, VA 23233\, 2250 John Rolfe Pkwy\,\, Henrico\, 23233\, United States
END:VEVENT
BEGIN:VEVENT
DTSTART;TZID=UTC:20250405T150000
DTEND;TZID=UTC:20250405T213000
DTSTAMP:20260426T012914
CREATED:20250214T082153Z
LAST-MODIFIED:20250326T221031Z
UID:28931-1743865200-1743888600@grtava.org
SUMMARY:GRTA -  ఉగాది సంబరాలు - 5th April 2025
DESCRIPTION:
URL:https://grtava.org/event/grta-%e0%b0%89%e0%b0%97%e0%b0%be%e0%b0%a6%e0%b0%bf-%e0%b0%b8%e0%b0%82%e0%b0%ac%e0%b0%b0%e0%b0%be%e0%b0%b2%e0%b1%81-stay-tuned/
LOCATION:Deep Run High School\, Deep Run High School\, Glen Allen\, VA\, 23059\, United States
END:VEVENT
BEGIN:VEVENT
DTSTART;TZID=UTC:20250315T143000
DTEND;TZID=UTC:20250315T163000
DTSTAMP:20260426T012914
CREATED:20250131T191346Z
LAST-MODIFIED:20250328T022635Z
UID:28891-1742049000-1742056200@grtava.org
SUMMARY:GRTA - Drawing  Competition
DESCRIPTION:                              
URL:https://grtava.org/event/grta-drawing-competition/
LOCATION:Glen Allen Library\, 10501 Staples Mill Rd\,\, Glen Allen\, 23060\, United States
END:VEVENT
BEGIN:VEVENT
DTSTART;TZID=UTC:20250215T100000
DTEND;TZID=UTC:20250215T110000
DTSTAMP:20260426T012914
CREATED:20250131T191031Z
LAST-MODIFIED:20250309T134734Z
UID:28885-1739613600-1739617200@grtava.org
SUMMARY:GRTA - Creative Writing (Either Telugu or English)
DESCRIPTION:   
URL:https://grtava.org/event/grta-creative-writing-either-telugu-or-english/
LOCATION:Tuckahoe Public Library\, 1901 Starling Dr\, Regency\, 23229\, United States
END:VEVENT
BEGIN:VEVENT
DTSTART;TZID=UTC:20250125T100000
DTEND;TZID=UTC:20250125T120000
DTSTAMP:20260426T012914
CREATED:20250125T215514Z
LAST-MODIFIED:20250209T001141Z
UID:28823-1737799200-1737806400@grtava.org
SUMMARY:GRTA - సంక్రాంతి ముగ్గుల పోటి 2025
DESCRIPTION:
URL:https://grtava.org/event/grta-%e0%b0%b8%e0%b0%82%e0%b0%95%e0%b1%8d%e0%b0%b0%e0%b0%be%e0%b0%82%e0%b0%a4%e0%b0%bf-%e0%b0%ae%e0%b1%81%e0%b0%97%e0%b1%8d%e0%b0%97%e0%b1%81%e0%b0%b2-%e0%b0%aa%e0%b1%8b%e0%b0%9f%e0%b0%bf-2025/
LOCATION:Hindu Center of Virginia\, 6051 Springfield Rd\, Glen Allen\, VA\, 23060\, United States
END:VEVENT
BEGIN:VEVENT
DTSTART;TZID=UTC:20230923T070000
DTEND;TZID=UTC:20230924T170000
DTSTAMP:20260426T012914
CREATED:20220804T184803Z
LAST-MODIFIED:20230915T152029Z
UID:26745-1695452400-1695574800@grtava.org
SUMMARY:GRTA - 6A6 CRICKET TOURNAMENT SEP 2023
DESCRIPTION:GREATER RICHMOND TELUGU ASSOCIATION\n6A6 CRICKET\nTOURNAMENT-2023\nDates : 23rd & 24th\, 2023\nTime: 7AM-5PM \nLocations :\nShort Pump Middle School\n4701 Pouncey Tract Rd\, Glen Allen\, VA 23059\nPocahontas Middle School\n12000 Three Chopt Rd\, Richmond\, VA 23233 \nTo Participate in this Event : CHECKOUT
URL:https://grtava.org/event/grta-6a6-cricket-tournament-sep-2022/
LOCATION:Short Pump Middle School\, 4701 Pouncey Tract Rd\, Glen Allen
CATEGORIES:2023
ATTACH;FMTTYPE=image/jpeg:https://grtava.org/wp-content/uploads/2022/08/WhatsApp-Image-2023-08-21-at-1.35.00-PM.jpeg
END:VEVENT
BEGIN:VEVENT
DTSTART;TZID=UTC:20230715T160000
DTEND;TZID=UTC:20230715T213000
DTSTAMP:20260426T012914
CREATED:20230619T230936Z
LAST-MODIFIED:20230620T041840Z
UID:27689-1689436800-1689456600@grtava.org
SUMMARY:GRTA Ladies Night
DESCRIPTION:Buy Now
URL:https://grtava.org/event/grta-ladies-night/
LOCATION:Gayton Baptist Church Auditorium\, VA
CATEGORIES:2023
END:VEVENT
BEGIN:VEVENT
DTSTART;TZID=UTC:20230318T160000
DTEND;TZID=UTC:20230318T160000
DTSTAMP:20260426T012914
CREATED:20230304T233121Z
LAST-MODIFIED:20230305T000058Z
UID:27399-1679155200-1679155200@grtava.org
SUMMARY:GRTA Kids Essay Writing on March 18th
DESCRIPTION:GRTA Kids Essay Writing on March 18th\n			\n						$0 – Buy Now
URL:https://grtava.org/event/grta-kids-essay-writing-on-march-18th/
LOCATION:VA
CATEGORIES:2023
END:VEVENT
BEGIN:VEVENT
DTSTART;TZID=UTC:20220923T160000
DTEND;TZID=UTC:20220925T220000
DTSTAMP:20260426T012914
CREATED:20220811T170908Z
LAST-MODIFIED:20220815T182204Z
UID:26776-1663948800-1664143200@grtava.org
SUMMARY:GRTA Tennis Tournament - Singles
DESCRIPTION:GRTA  Tennis Tournament – Singles \nDates : September 23rd\, 24th and 25th 2022 \nLocation: Deep Run High School Tennis Courts \nEntry Deadline for Registrations : September 6th\, 2022 \nFor additional information please reach us at : grta.vausa@gmail.com or grtatennistourney@gmail.com \nContacts : Khalid Mohammad (804 405 9458)\, Manohar Chandra (804 502 5729)\, Ravi Pedaprolu ( 804 467 7219)\, Ramesh Tadi (804 244 7181)\, Raj Gaddam ( 703 599 7836) Vijay Vemuri (804 915 6699). \nClick here to pay for registrations: : CHECKOUT
URL:https://grtava.org/event/grta-tennis-tournament-singles/
LOCATION:VA
CATEGORIES:2022
ATTACH;FMTTYPE=image/png:https://grtava.org/wp-content/uploads/2022/08/GRTA-Tennies2022.png
END:VEVENT
BEGIN:VEVENT
DTSTART;TZID=UTC:20220916T160000
DTEND;TZID=UTC:20220918T230000
DTSTAMP:20260426T012914
CREATED:20220811T142649Z
LAST-MODIFIED:20220815T182043Z
UID:26764-1663344000-1663542000@grtava.org
SUMMARY:GRTA Tennis Tournaments - Doubles
DESCRIPTION:GRTA  Tennis Doubles Tournament \nDates : September 16th\, 17th and 18th \nLocation: Deep Run High School Tennis Courts \nEntry Deadline for Registrations : September 6th\, 2022 \nFor additional information please reach us at : grta.vausa@gmail.com or grtatennistourney@gmail.com \nContact : Khalid Mohammad (804 405 9458)\, Manohar Chandra (804 502 5729)\, Ravi Pedaprolu ( 804 467 7219)\, Ramesh Tadi (804 244 7181)\, Raj Gaddam ( 703 599 7836) Vijay Vemuri (804 915 6699). \nClick here for Registrations: CHECKOUT
URL:https://grtava.org/event/grta-tennis-tournaments-doubles/
LOCATION:VA
CATEGORIES:2022
ATTACH;FMTTYPE=image/png:https://grtava.org/wp-content/uploads/2022/08/GRTA-Tennies2022.png
END:VEVENT
END:VCALENDAR